Workbook
Name ASSETS: 'Balance Sheet'!$H$3
Name Paleo_w_IF: Progress!#REF!

Sheet Goals
B1: Trimonthly Goals (31/12) | C1: Tracking (3 objective max/area)
A2: Mind | B2: > Stay up-to-date with essential information by doing 1 essential flashcard review/week - 1 Flashcard reflection/week > 90% MRC & 90% ERC - Cron automatic shutdown (to sleep enough) - Buy extra pair of earphones to lay next to bed > Read 4 books || 1000 pages (Models, how an economy grows & why it crashes,a tech book, the most important thing) > Become more centered by starting a 5 minute meditation habit > Reflect on goals & life once every week | C2: > 1 flashcard reflection/week > 6 days/week stop @20:30h (Progress Sheet) > 6 days/week start @6:30 (Progress Sheet) > 7 days of consistent tape (Progress Sheet) > In-time review? (Progress Sheet)
A3: Health
A4: Wealth
A5: Social
A6: Alive
A7: ULTIMATE DAY
A8: Be creative. You know.. rainbows & unicorns.

Sheet Progress
A1: Specials/Habit changes?
A2: Mind | B2: Write date here | C2: Write date here | D2: Write date here | E2: Write date here | F2: Write date here | G2: Write date here | H2: Write date here | I2: Write date here | J2: Write date here | K2: Write date here | L2: Write date here | M2: Write date here | N2: Write date here | O2: Write date here | P2: Write date here | Q2: Write date here | R2: Write date here | S2: Write date here | T2: Write date here | U2: Write date here | V2: Write date here | W2: Write date here | X2: Write date here | Y2: Write date here | Z2: Write date here | AA2: Write date here | AB2: Write date here | AC2: Write date here | AD2: Write date here | AE2: Write date here | AF2: Write date here | AG2: Write date here | AH2: Write date here | AI2: Write date here | AJ2: Write date here | AK2: Write date here | AL2: Write date here | AM2: Write date here | AN2: Write date here | AO2: Write date here | AP2: Write date here | AQ2: Write date here | AR2: Write date here | AS2: Write date here | AT2: Write date here | AU2: Write date here | AV2: Write date here | AW2: Write date here | AX2: Write date here | AY2: Write date here | AZ2: Write date here | BA2: Write date here
A3: Tracking Metric 1
A7: Health | B7: =B2 -> Write date here | C7: =C2 -> Write date here | D7: =D2 -> Write date here | E7: =E2 -> Write date here | F7: =F2 -> Write date here | G7: =G2 -> Write date here | H7: =H2 -> Write date here | I7: =I2 -> Write date here | ... BA7: =BA2 -> Write date here
A12: Wealth | B12: =B2 -> Write date here | C12: =C2 -> Write date here | D12: =D2 -> Write date here | E12: =E2 -> Write date here | F12: =F2 -> Write date here | G12: =G2 -> Write date here | H12: =H2 -> Write date here | I12: =I2 -> Write date here | ... BA12: =BA2 -> Write date here
A17: Social | B17: =B2 -> Write date here | C17: =C2 -> Write date here | D17: =D2 -> Write date here | E17: =E2 -> Write date here | F17: =F2 -> Write date here | G17: =G2 -> Write date here | H17: =H2 -> Write date here | I17: =I2 -> Write date here | ... BA17: =BA2 -> Write date here
A22: Alive | B22: =B2 -> Write date here | C22: =C2 -> Write date here | D22: =D2 -> Write date here | E22: =E2 -> Write date here | F22: =F2 -> Write date here | G22: =G2 -> Write date here | H22: =H2 -> Write date here | I22: =I2 -> Write date here | ... BA22: =BA2 -> Write date here

Sheet Income Statement
A1: INCOME | B1: JANUARY | C1: FEBRUARY | D1: MARCH | E1: APRIL | F1: MAY | G1: JUNE | H1: JULY | I1: AUGUST | J1: SEPTEMBER | K1: OCTOBER | L1: NOVEMBER | M1: DECEMBER | O1: AVERAGE/MONTH | P1: % OF TOTAL | AE1: Last Years Balance | AF1: 500
A2: Active Income | AE2: Last Years Savings | AF2: 350
A3: Loan/Paybacks | O3: =AVERAGE('Income Statement'!$B3:$M3) -> #DIV/0! | P3: =O3/$O$17 -> #DIV/0!
A4: Job & Self Employment | B4: 1600 | C4: 1600 | D4: 1600 | E4: 1600 | F4: 1600 | G4: 1600 | H4: 1600 | I4: 1600 | J4: 1600 | K4: 1600 | L4: 1600 | M4: 1600 | O4: =AVERAGE('Income Statement'!$B4:$M4) -> 1600 | P4: =O4/$O$17 -> 1
A5: Active Income Total | B5: =SUM(B3:B4) -> 1600 | C5: =SUM(C3:C4) -> 1600 | D5: =SUM(D3:D4) -> 1600 | E5: =SUM(E3:E4) -> 1600 | F5: =SUM(F3:F4) -> 1600 | G5: =SUM(G3:G4) -> 1600 | H5: =SUM(H3:H4) -> 1600 | I5: =SUM(I3:I4) -> 1600 | ... M5: =SUM(M3:M4) -> 1600 | O5: =AVERAGEIF('Income Statement'!$B$5:$M$5,"<>0") -> 1600 | P5: =O5/O17 -> 1
A6: Passive Income Streams
A7: Affiliate Earnings | O7: =AVERAGE(B7:M7) -> #DIV/0! | P7: =O7/$O$17 -> #DIV/0!
A8: Books Amazon | O8: =AVERAGE(B8:M8) -> #DIV/0! | P8: =O8/$O$17 -> #DIV/0!
A9: Book Life Guide | O9: =AVERAGE(B9:M9) -> #DIV/0! | P9: =O9/$O$17 -> #DIV/0!
A10: Fiverr Gigs | O10: =AVERAGE(B10:M10) -> #DIV/0! | P10: =O10/$O$17 -> #DIV/0!
A11: Passive Income Total | B11: =SUM(B7:B10) -> 0 | C11: =SUM(C7:C10) -> 0 | D11: =SUM(D7:D10) -> 0 | E11: =SUM(E7:E10) -> 0 | F11: =SUM(F7:F10) -> 0 | G11: =SUM(G7:G10) -> 0 | H11: =SUM(H7:H10) -> 0 | I11: =SUM(I7:I10) -> 0 | ... M11: =SUM(M7:M10) -> 0 | O11: =AVERAGEIF(B11:M11,"<>0") -> #DIV/0! | P11: =O11/O17 -> #DIV/0!
A12: Portfolio Income
A13: Interest | O13: =AVERAGE(B13:M13) -> #DIV/0! | P13: =O13/$O$17 -> #DIV/0!
A14: Dividends | O14: =AVERAGE(B14:M14) -> #DIV/0! | P14: =O14/$O$17 -> #DIV/0!
A15: Portfolio Income Total | B15: =SUM(B13:B14) -> 0 | C15: =SUM(C13:C14) -> 0 | D15: =SUM(D13:D14) -> 0 | E15: =SUM(E13:E14) -> 0 | F15: =SUM(F13:F14) -> 0 | G15: =SUM(G13:G14) -> 0 | H15: =SUM(H13:H14) -> 0 | I15: =SUM(I13:I14) -> 0 | ... M15: =SUM(M13:M14) -> 0 | O15: =AVERAGEIF(B15:M15,"<>0") -> #DIV/0! | P15: =O15/$O$17 -> #DIV/0!
A17: TOTAL INCOME | B17: =(B5+B11+B15) -> 1600 | C17: =C5+C11+C15 -> 1600 | D17: =D5+D11+D15 -> 1600 | E17: =E5+E11+E15 -> 1600 | F17: =F5+F11+F15 -> 1600 | G17: =G5+G11+G15 -> 1600 | H17: =H5+H11+H15 -> 1600 | I17: =I5+I11+I15 -> 1600 | J17: =J5+J11+J15 -> 1600 | ... M17: =M5+M11+M15 -> 1600 | O17: =AVERAGEIF(B17:M17,"<>0") -> 1600
A19: NOTES
A21: EXPENSE | B21: JANUARY | C21: FEBRUARY | D21: MARCH | E21: APRIL | F21: MAY | G21: JUNE | H21: JULY | I21: AUGUST | J21: SEPTEMBER | K21: OCTOBER | L21: NOVEMBER | M21: DECEMBER
A22: #1) Investments (Budget = 45%) | B22: =B17*0.45 -> 720 | C22: =C17*0.45 -> 720 | D22: =D17*0.45 -> 720 | E22: =E17*0.45 -> 720 | F22: =F17*0.45 -> 720 | G22: =G17*0.45 -> 720 | H22: =H17*0.45 -> 720 | I22: =I17*0.45 -> 720 | ... M22: =M17*0.45 -> 720
A23: Investments (Business/Portfolio) (25%) (only mastercard) | O23: =AVERAGE(B23:M23) -> #DIV/0! | P23: =O23/$O$41 -> #DIV/0!
A24: Rainy Day (25%) | O24: =AVERAGE(B24:M24) -> #DIV/0! | P24: =O24/$O$41 -> #DIV/0!
A25: Education (25%) ( books, course, tutoring) | O25: =AVERAGE(B25:M25) -> #DIV/0! | P25: =O25/$O$41 -> #DIV/0!
A26: Fun/Vacation (25%) | O26: =AVERAGE(B26:M26) -> #DIV/0! | P26: =O26/$O$41 -> #DIV/0!
A27: Investments Total | B27: =SUM(B23:B26) -> 0 | C27: =SUM(C23:C26) -> 0 | D27: =SUM(D23:D26) -> 0 | E27: =SUM(E23:E26) -> 0 | F27: =SUM(F23:F26) -> 0 | G27: =SUM(G23:G26) -> 0 | H27: =SUM(H23:H26) -> 0 | I27: =SUM(I23:I26) -> 0 | ... M27: =SUM(M23:M26) -> 0 | O27: =AVERAGEIF(B27:M27,"<>0") -> #DIV/0! | P27: =O27/$O$41 -> #DIV/0!
A29: #2) Basic Expenses (Budget = 55%) | B29: =B17*0.55 -> 880 | C29: =C17*0.55 -> 880 | D29: =D17*0.55 -> 880 | E29: =E17*0.55 -> 880 | F29: =F17*0.55 -> 880 | G29: =G17*0.55 -> 880 | H29: =H17*0.55 -> 880 | I29: =I17*0.55 -> 880 | ... M29: =M17*0.55 -> 880
A30: Healthcare (hygiëne/hair, injury, doctor/blood) | C30: 23 | G30: 23 | L30: 23 | O30: =AVERAGE(B30:M30) -> 23 | P30: =O30/$O$41 -> 0.10648148
A31: Housing <33% (mortgage, pty taxes, insurance) | B31: 23 | E31: 23 | F31: 23 | I31: 23 | J31: 23 | K31: 23 | O31: =AVERAGE(B31:M31) -> 23 | P31: =O31/$O$41 -> 0.10648148
A32: Utilities (power, water, phone, internet, tv) | C32: 50 | D32: 23 | G32: 50 | H32: 23 | L32: 50 | M32: 23 | O32: =AVERAGE(B32:M32) -> 36.5 | P32: =O32/$O$41 -> 0.16898148
A33: Transportation (car + insurance + gas, public transit) | B33: 50 | E33: 50 | F33: 50 | I33: 50 | J33: 50 | K33: 50 | O33: =AVERAGE(B33:M33) -> 50 | P33: =O33/$O$41 -> 0.23148148
A34: Extra (SPECIFY) | C34: 78 | D34: 50 | G34: 78 | H34: 50 | L34: 78 | M34: 50 | O34: =AVERAGE(B34:M34) -> 64 | P34: =O34/$O$41 -> 0.2962963
A35: Cash Withdrawals (Fun?) | B35: 78 | E35: 78 | F35: 78 | I35: 78 | J35: 78 | K35: 78 | O35: =AVERAGE(B35:M35) -> 78 | P35: =O35/$O$41 -> 0.36111111
A36: Supplements | C36: 65 | D36: 78 | G36: 65 | H36: 78 | L36: 65 | M36: 78 | O36: =AVERAGE(B36:M36) -> 71.5 | P36: =O36/$O$41 -> 0.33101852
A37: Nutrition | B37: 65 | E37: 65 | F37: 65 | I37: 65 | J37: 65 | K37: 65 | O37: =AVERAGE(B37:M37) -> 65 | P37: =O37/$O$41 -> 0.30092593
A38: Subscriptions | D38: 65 | H38: 65 | M38: 65 | O38: =AVERAGE(B38:M38) -> 65 | P38: =O38/$O$41 -> 0.30092593
A39: Basic Expenses Total | B39: =SUM(B30:B38) -> 216 | C39: =SUM(C30:C38) -> 216 | D39: =SUM(D30:D38) -> 216 | E39: =SUM(E30:E38) -> 216 | F39: =SUM(F30:F38) -> 216 | G39: =SUM(G30:G38) -> 216 | H39: =SUM(H30:H38) -> 216 | I39: =SUM(I30:I38) -> 216 | ... M39: =SUM(M30:M38) -> 216 | O39: =AVERAGEIF(B39:M39,"<>0") -> 216 | P39: =O39/$O$41 -> 1
A41: TOTAL EXPENSES | B41: =SUM(B27,B39) -> 216 | C41: =SUM(C27,C39) -> 216 | D41: =SUM(D27,D39) -> 216 | E41: =SUM(E27,E39) -> 216 | F41: =SUM(F27,F39) -> 216 | G41: =SUM(G27,G39) -> 216 | H41: =SUM(H27,H39) -> 216 | I41: =SUM(I27,I39) -> 216 | ... M41: =SUM(M27,M39) -> 216 | O41: =AVERAGEIF(B41:M41,"<>0") -> 216 | P41: =O41/O17 -> 0.135
P42: % of income
A43: NOTES
C44: > Hosting stephane verelst + domeinnaam

Sheet Balance Sheet
B2: OVERVIEW | C2: Income | D2: Expenses | E2: Passive | F2: Rainy Day | G2: Left % | H2: Cashflow | J2: ASSETS | K2: COST | M2: LIABILITIES | N2: COST
B3: January | C3: ='Income Statement'!B17 -> 1600 | D3: ='Income Statement'!B$41 -> 216 | E3: =('Income Statement'!B$11)/'Balance Sheet'!C3 -> 0 | F3: ='Income Statement'!AF2+'Income Statement'!B24 -> 350 | G3: =H3/C3 -> 0.865 | H3: ='Balance Sheet'!$C3-'Balance Sheet'!$D3 -> 1384 | J3: Stocks/Funds | M3: Personal
B4: February | C4: ='Income Statement'!C$17 -> 1600 | D4: ='Income Statement'!C$41 -> 216 | E4: =('Income Statement'!C$11)/'Balance Sheet'!C4 -> 0 | F4: ='Income Statement'!C24+F3 -> 350 | G4: =H4/C4 -> 0.865 | H4: ='Balance Sheet'!$C4-'Balance Sheet'!$D4 -> 1384 | M4: Credit Cards
B5: March | C5: ='Income Statement'!D17 -> 1600 | D5: ='Income Statement'!D$41 -> 216 | E5: =('Income Statement'!D$11)/'Balance Sheet'!C5 -> 0 | F5: =F4+'Income Statement'!D24 -> 350 | G5: =H5/C5 -> 0.865 | H5: ='Balance Sheet'!$C5-'Balance Sheet'!$D5 -> 1384 | M5: Car Loans
B6: April | C6: ='Income Statement'!E$17 -> 1600 | D6: ='Income Statement'!E$41 -> 216 | E6: =('Income Statement'!E$11)/'Balance Sheet'!C6 -> 0 | F6: =F5+'Income Statement'!E24 -> 350 | G6: =H6/C6 -> 0.865 | H6: ='Balance Sheet'!$C6-'Balance Sheet'!$D6 -> 1384 | J6: Real Estate & Business | M6: Home Mortgage Loan
B7: May | C7: ='Income Statement'!F17 -> 1600 | D7: ='Income Statement'!F$41 -> 216 | E7: =('Income Statement'!F$11)/'Balance Sheet'!C7 -> 0 | F7: =F6+'Income Statement'!F24 -> 350 | G7: =H7/C7 -> 0.865 | H7: ='Balance Sheet'!$C7-'Balance Sheet'!$D7 -> 1384 | M7: Personal Loans
B8: June | C8: ='Income Statement'!G17 -> 1600 | D8: ='Income Statement'!G$41 -> 216 | E8: =('Income Statement'!G$11)/'Balance Sheet'!C8 -> 0 | F8: =F7+'Income Statement'!C28 -> 350 | G8: =H8/C8 -> 0.865 | H8: ='Balance Sheet'!$C8-'Balance Sheet'!$D8 -> 1384 | M8: Other Debt
B9: July | C9: ='Income Statement'!H17 -> 1600 | D9: ='Income Statement'!H$41 -> 216 | E9: =('Income Statement'!H$11)/'Balance Sheet'!C9 -> 0 | F9: =F8+'Income Statement'!G24 -> 350 | G9: =H9/C9 -> 0.865 | H9: ='Balance Sheet'!$C9-'Balance Sheet'!$D9 -> 1384
B10: August | C10: ='Income Statement'!I$17 -> 1600 | D10: ='Income Statement'!I$41 -> 216 | E10: =('Income Statement'!I$11)/'Balance Sheet'!C10 -> 0 | F10: =F9+'Income Statement'!I24 -> 350 | G10: =H10/C10 -> 0.865 | H10: ='Balance Sheet'!$C10-'Balance Sheet'!$D10 -> 1384
B11: September | C11: ='Income Statement'!J17 -> 1600 | D11: ='Income Statement'!J$41 -> 216 | E11: =('Income Statement'!J$11)/'Balance Sheet'!C11 -> 0 | F11: =F10+'Income Statement'!J24 -> 350 | G11: =H11/C11 -> 0.865 | H11: ='Balance Sheet'!$C11-'Balance Sheet'!$D11 -> 1384
B12: October | C12: ='Income Statement'!K$17 -> 1600 | D12: ='Income Statement'!K$41 -> 216 | E12: =('Income Statement'!K$11)/'Balance Sheet'!C12 -> 0 | F12: =F11+'Income Statement'!K24 -> 350 | G12: =H12/C12 -> 0.865 | H12: ='Balance Sheet'!$C12-'Balance Sheet'!$D12 -> 1384
B13: November | C13: ='Income Statement'!L17 -> 1600 | D13: ='Income Statement'!L$41 -> 216 | E13: =('Income Statement'!L$11)/'Balance Sheet'!C13 -> 0 | F13: =F12+'Income Statement'!L24 -> 350 | G13: =H13/C13 -> 0.865 | H13: ='Balance Sheet'!$C13-'Balance Sheet'!$D13 -> 1384 | J13: TOTAL ASSETS | K13: =SUBTOTAL(109,Tabel3[COST]) -> 0 | M13: TOTAL LIABILITITES | N13: =SUBTOTAL(103,Tabel5[COST]) -> 0
B14: December | C14: ='Income Statement'!M17 -> 1600 | D14: ='Income Statement'!M$41 -> 216 | E14: =('Income Statement'!M$11)/'Balance Sheet'!C14 -> 0 | F14: =F13+'Income Statement'!M24 -> 350 | G14: =H14/C14 -> 0.865 | H14: ='Balance Sheet'!$C14-'Balance Sheet'!$D14 -> 1384
B15: BALANCE | C15: =SUM(C3:C14) -> 19200 | D15: =SUM(D3:D14) -> 2592 | E15: =('Income Statement'!B$11)/'Balance Sheet'!C15 -> 0 | F15: =F14 -> 350 | G15: =H15/C15 -> 0.89104167 | H15: =(SUM(H3:H14))+'Income Statement'!AF1 -> 17108
C36: Basic Expenses VS. Total Expenses VS Passive Income VS Total Income

Sheet Nutrition & Blood
B2: Training Day | I2: Food | J2: Kc | K2: Pr | L2: Ca | M2: Fa
B3: Meal 1 (07:00) – Breakfast | C3: Mp | D3: Kc | E3: Pr | F3: Ca | G3: Fa | I3: Eggs | 1 piece | J3: =SUM(4*K3)+(4*L3)+(9*M3) -> 84 | K3: 7.5 | L3: 0 | M3: 6
B4: Coffee, black | I4: Chicken | 100 gram | J4: 99.3 | K4: 22.8 | L4: 0 | M4: 0.9
B5: Meal 2 (13h) - Lunch | C5: Mp | D5: Kc | E5: Pr | F5: Ca | G5: Fa | I5: Whey Protein | 100 gram | J5: 360 | K5: 69 | L5: 11 | M5: 6
B6: 45g Scoop Protein | C6: 0.45 | D6: =$C$6*J5 -> 162 | E6: =$C$6*K5 -> 31.05 | F6: =$C$6*L5 -> 4.95 | G6: =$C$6*M5 -> 2.7 | I6: Steak | 100 gram | J6: =SUM(4*K6)+(4*L6)+(9*M6) -> 206 | K6: 20 | L6: 0 | M6: 14
B7: 40g Cacao | C7: 0.4 | D7: =$C$7*J15 -> 151.6 | E7: =$C$7*K15 -> 7.4 | F7: =$C$7*L15 -> 4.2 | G7: =$C$7*M15 -> 8.68 | I7: White Rice | 100 gram (Uncooked) | J7: 365 | K7: 7 | L7: 80 | M7: 1
B8: 1TBSP Cinnamon | C8: 0 | D8: 0 | E8: 0 | F8: 0 | G8: 0 | I8: Sweet Potato | 100 gram | J8: 82 | K8: 2 | L8: 17 | M8: 0.1
B9: 250g chicken | C9: 2.5 | D9: =$C$9*J4 -> 248.25 | E9: =$C$9*K4 -> 57 | F9: =$C$9*L4 -> 0 | G9: =$C$9*M4 -> 2.25 | I9: Broccoli/Spinach | 100 gram | J9: 8 | K9: 0 | L9: 2 | M9: 0
B10: 400g broccoli/spinach/mixed vegs | C10: 4 | D10: =$C10*J9 -> 32 | E10: =$C10*K9 -> 0 | F10: =$C10*L9 -> 8 | G10: =$C10*M9 -> 0 | I10: Coconut Oil | 100 gram | J10: 900 | K10: 0 | L10: 0 | M10: 100
B11: 3 eggs, 3 whites | C11: 3 | D11: =$C$11*J3 -> 252 | E11: =$C$11*K3 -> 22.5 | F11: =$C$11*L3 -> 0 | G11: =$C$11*M3 -> 18 | I11: Grassfed Butter | 100 gram | J11: 744 | K11: 1 | L11: 1 | M11: 82
B12: 250g sweet potato | C12: 2.5 | D12: =$C12*J8 -> 205 | E12: =$C12*K8 -> 5 | F12: =$C12*L8 -> 42.5 | G12: =$C12*M8 -> 0.25 | I12: Avocado | 100 gram | J12: 188 | K12: 2.6 | L12: 1.5 | M12: 18.1
B13: Meal 3 (20:00) - Post Workout | C13: Mp | D13: Kc | E13: Pr | F13: Ca | G13: Fa | I13: Nuts | 100 gram | J13: 661 | K13: 16.7 | L13: 15.6 | M13: 57.2
B14: 250g broccoli/spinach/mixed vegs | C14: 2.5 | D14: =$C14*J9 -> 20 | E14: =$C14*K9 -> 0 | F14: =$C14*L9 -> 5 | G14: =$C14*M9 -> 0 | I14: Magere Platte Kaas | 100g | J14: 71 | K14: 13 | L14: 3.5 | M14: 0.5
B15: 300g Grilled chicken | C15: 3 | D15: =$C15*J4 -> 297.9 | E15: =$C15*K4 -> 68.4 | F15: =$C15*L4 -> 0 | G15: =$C15*M4 -> 2.7 | I15: Cacao | 100 gram | J15: 379 | K15: 18.5 | L15: 10.5 | M15: 21.7
B16: 250g berries | C16: 2.5 | D16: =$C16*J16 -> 112.5 | E16: =$C16*K16 -> 2.5 | F16: =$C16*L16 -> 18.75 | G16: =$C16*M16 -> 0 | I16: Berriemix | 100 gram | J16: 45 | K16: 1 | L16: 7.5 | M16: 0
B17: 300g sweet potato (after training) | C17: 3 | D17: =$C17*J8 -> 246 | E17: =$C17*K8 -> 6 | F17: =$C17*L8 -> 51 | G17: =$C17*M8 -> 0.3 | I17: Olijfolie | 1tbsp | J17: 119 | K17: 0 | L17: 0 | M17: 14
B18: 100g white rice | C18: 1 | D18: =$C$18*J7 -> 365 | E18: =$C$18*K7 -> 7 | F18: =$C$18*L7 -> 80 | G18: =$C$18*M7 -> 1 | I18: Salademix | 100g | J18: 20 | K18: 0 | L18: 2 | M18: 0
B19: 50g post-workout protein shake | C19: 0.5 | D19: =$C$19*J5 -> 180 | E19: =$C$19*K5 -> 34.5 | F19: =$C$19*L5 -> 5.5 | G19: =$C$19*M5 -> 3 | I19: Mustard | 100g | J19: 176 | K19: 7.6 | L19: 10 | M19: 11
B20: 2250 | 200p | 250c | 50f | D20: =SUM(D4:D19) -> 2272.25 | E20: =SUM(E4:E19) -> 241.35 | F20: =SUM(F4:F19) -> 219.9 | G20: =SUM(G4:G19) -> 38.88 | I20: XCT Oil | 100ml | J20: 867 | K20: 0 | L20: 0 | M20: 93
E21: =(E20*4)/D20 -> 0.42486522 | F21: =(F20*4)/D20 -> 0.38710529 | G21: =(G20*9)/D20 -> 0.15399714 | I21: Apple | 100g | J21: 52 | K21: 0 | L21: 14 | M21: 0
I22: Sardines | 100g | J22: 191 | K22: 24 | L22: 0 | M22: 12
B23: Rest Day | I23: Havermout | 100g | J23: 375 | K23: 11 | L23: 60 | M23: 8
B24: Meal 1 (07:00) – Breakfast | C24: Mp | D24: Kc | E24: Pr | F24: Ca | G24: Fa
B25: Coffee, black
B26: Meal 2 (13:00) - Lunch | C26: Mp | D26: Kc | E26: Pr | F26: Ca | G26: Fa | I26: Apple | 100g | J26: 52 | K26: 0 | L26: 14 | M26: 0
B27: 45g Scoop Protein | C27: 0.45 | D27: =$C$27*J5 -> 162 | E27: =$C$27*K5 -> 31.05 | F27: =$C$27*L5 -> 4.95 | G27: =$C$27*M5 -> 2.7 | J27: 53 | K27: 1 | L27: 15 | M27: 1
B28: 40gTBSP Cacao | C28: 0.4 | D28: =$C$28*J15 -> 151.6 | E28: =$C$28*K15 -> 7.4 | F28: =$C$28*L15 -> 4.2 | G28: =$C$28*M15 -> 8.68
B29: 1TBSP Cinnamon | C29: 0 | D29: 0 | E29: 0 | F29: 0 | G29: 0 | I29: Chocomelk
B30: 400g broccoli/spinach/mixed vegs | C30: 4 | D30: =$C$30*J9 -> 32 | E30: =$C$30*K9 -> 0 | F30: =$C$30*L9 -> 8 | G30: =$C$30*M9 -> 0
B31: 250g sweet potato | C31: 2.5 | D31: =$C$31*J8 -> 205 | E31: =$C$31*K8 -> 5 | F31: =$C$31*L8 -> 42.5 | G31: =$C$31*M8 -> 0.25 | I31: 1 tbsp XCT | J31: 0.15 | K31: =$J31*J20 -> 130.05 | L31: =$J31*K20 -> 0 | M31: =$J31*L20 -> 0
B32: 250g chicken | C32: 2.5 | D32: =$C$32*J4 -> 248.25 | E32: =$C$32*K4 -> 57 | F32: =$C$32*L4 -> 0 | G32: =$C$32*M4 -> 2.25 | I32: 1/2 scoop protein powder | J32: 0.15 | K32: =$J32*J5 -> 54 | L32: =$J32*K5 -> 10.35 | M32: =$J32*L5 -> 1.65
B33: 3 boiled eggs + 3 egg whites (this has more kcal) | C33: 3 | D33: =$C$33*J3 -> 252 | E33: =$C$33*K3 -> 22.5 | F33: =$C$33*L3 -> 0 | G33: =$C$33*M3 -> 18 | I33: 1 tbsp cocoa powder | J33: 0.15 | K33: =$J33*J15 -> 56.85 | L33: =$J33*K15 -> 2.775 | M33: =$J33*L15 -> 1.575
B34: Meal 3 (19h) - Dinner | C34: Mp | D34: Kc | E34: Pr | F34: Ca | G34: Fa | I34: 30g grassfed butter | J34: 0.3 | K34: =$J34*J11 -> 223.2 | L34: =$J34*K11 -> 0.3 | M34: =$J34*L11 -> 0.3
B35: 400g broccoli/spinach/mixed vegs | C35: 4 | D35: =$C$35*J9 -> 32 | E35: =$C$35*K9 -> 0 | F35: =$C$35*L9 -> 8 | G35: =$C$35*M9 -> 0 | I35: kaneel, vanillepoeder
B36: 200g chicken | C36: 1 | D36: =$C$36*J4 -> 99.3 | E36: =$C$36*K4 -> 22.8 | F36: =$C$36*L4 -> 0 | G36: =$C$36*M4 -> 0.9
B37: 250g berries | C37: 2.5 | D37: =$C$37*J16 -> 112.5 | E37: =$C$37*K16 -> 2.5 | F37: =$C$37*L16 -> 18.75 | G37: =$C$37*M16 -> 0
B38: 1650 | 180p | 80c | 70f | D38: =SUM(D27:D37) -> 1294.65 | E38: =SUM(E27:E37) -> 148.25 | F38: =SUM(F27:F37) -> 86.4 | G38: =SUM(G27:G37) -> 32.78
E39: =(E38*4)/D38 -> 0.45803885 | F39: =(F38*4)/D38 -> 0.26694473 | G39: =(G38*9)/D38 -> 0.22787626
C43: 42036 | D43: 42156 | E43: 42248 | F43: 42461
B44: Total cholesterol | C44: 206 | D44: 210 | E44: 172 | F44: 180
...

Sheet Networking
B1: Infrequently mail people you want to connect with with life questions - Look for people 7y ahead of you, worth +-1M. “Is this person actually rich and happy?”
B2: Events/Meetups | D2: Professional People (People who have achieved what you want) | H2: Companies/Organisations
D3: Name | E3: Contact | F3: Notes | G3: Last contact
D4: Big shot | E4: simon@mail.com | F4: met at, ... | G4: sunday, fucker doesn't return muh mails.
B16: http://www.out.be/nl/
B17: www.meetup.com
B18: http://www.wattedoen.be/
B19: http://www.uitinvlaanderen.be/
B20: http://www.netevents.be/nl/
